BEGIN:VCALENDAR
VERSION:2.0
PRODID:-//SCCYPAA - ECPv6.15.17//NONSGML v1.0//EN
CALSCALE:GREGORIAN
METHOD:PUBLISH
X-WR-CALNAME:SCCYPAA
X-ORIGINAL-URL:https://sccypaa.com
X-WR-CALDESC:Events for SCCYPAA
REFRESH-INTERVAL;VALUE=DURATION:PT1H
X-Robots-Tag:noindex
X-PUBLISHED-TTL:PT1H
BEGIN:VTIMEZONE
TZID:America/New_York
BEGIN:DAYLIGHT
TZOFFSETFROM:-0500
TZOFFSETTO:-0400
TZNAME:EDT
DTSTART:20190310T070000
END:DAYLIGHT
BEGIN:STANDARD
TZOFFSETFROM:-0400
TZOFFSETTO:-0500
TZNAME:EST
DTSTART:20191103T060000
END:STANDARD
BEGIN:DAYLIGHT
TZOFFSETFROM:-0500
TZOFFSETTO:-0400
TZNAME:EDT
DTSTART:20200308T070000
END:DAYLIGHT
BEGIN:STANDARD
TZOFFSETFROM:-0400
TZOFFSETTO:-0500
TZNAME:EST
DTSTART:20201101T060000
END:STANDARD
BEGIN:DAYLIGHT
TZOFFSETFROM:-0500
TZOFFSETTO:-0400
TZNAME:EDT
DTSTART:20210314T070000
END:DAYLIGHT
BEGIN:STANDARD
TZOFFSETFROM:-0400
TZOFFSETTO:-0500
TZNAME:EST
DTSTART:20211107T060000
END:STANDARD
END:VTIMEZONE
BEGIN:VEVENT
DTSTART;TZID=America/New_York:20200502T160000
DTEND;TZID=America/New_York:20200502T190000
DTSTAMP:20260425T164205
CREATED:20200430T234440Z
LAST-MODIFIED:20200430T234442Z
UID:10000103-1588435200-1588446000@sccypaa.com
SUMMARY:Speaker & Trivia Night on Zoom
DESCRIPTION:Join us on Zoom for a great time.  Meeting code located on flyer.
URL:https://sccypaa.com/event/speaker-trivia-night-on-zoom/
LOCATION:Zoom
ATTACH;FMTTYPE=image/jpeg:https://sccypaa.com/wp-content/uploads/speaker-and-trivia-may-2-2020.jpg
END:VEVENT
END:VCALENDAR