BEGIN:VCALENDAR
VERSION:2.0
PRODID:-//SCCYPAA - ECPv6.15.17//NONSGML v1.0//EN
CALSCALE:GREGORIAN
METHOD:PUBLISH
X-ORIGINAL-URL:https://sccypaa.com
X-WR-CALDESC:Events for SCCYPAA
REFRESH-INTERVAL;VALUE=DURATION:PT1H
X-Robots-Tag:noindex
X-PUBLISHED-TTL:PT1H
BEGIN:VTIMEZONE
TZID:America/New_York
BEGIN:DAYLIGHT
TZOFFSETFROM:-0500
TZOFFSETTO:-0400
TZNAME:EDT
DTSTART:20180311T070000
END:DAYLIGHT
BEGIN:STANDARD
TZOFFSETFROM:-0400
TZOFFSETTO:-0500
TZNAME:EST
DTSTART:20181104T060000
END:STANDARD
BEGIN:DAYLIGHT
TZOFFSETFROM:-0500
TZOFFSETTO:-0400
TZNAME:EDT
DTSTART:20190310T070000
END:DAYLIGHT
BEGIN:STANDARD
TZOFFSETFROM:-0400
TZOFFSETTO:-0500
TZNAME:EST
DTSTART:20191103T060000
END:STANDARD
BEGIN:DAYLIGHT
TZOFFSETFROM:-0500
TZOFFSETTO:-0400
TZNAME:EDT
DTSTART:20200308T070000
END:DAYLIGHT
BEGIN:STANDARD
TZOFFSETFROM:-0400
TZOFFSETTO:-0500
TZNAME:EST
DTSTART:20201101T060000
END:STANDARD
END:VTIMEZONE
BEGIN:VEVENT
DTSTART;TZID=America/New_York:20191025T170000
DTEND;TZID=America/New_York:20191027T110000
DTSTAMP:20260425T233204
CREATED:20190811T164735Z
LAST-MODIFIED:20220913T020205Z
UID:10000100-1572022800-1572174000@sccypaa.com
SUMMARY:SCCYPAA XVII | 2019
DESCRIPTION:Register Online and Get a Shirt Here.\n \n  \n 
URL:https://sccypaa.com/event/sccypaa-xvii-2019/
LOCATION:Hotel Indigo\, 250 Johnnie Dodds Blvd\, Mt Pleasant\, SC\, 29464\, United States
ATTACH;FMTTYPE=image/png:https://sccypaa.com/wp-content/uploads/2018/12/sccypaa-logo-600.png
END:VEVENT
END:VCALENDAR